BEGIN:VCALENDAR
VERSION:2.0
PRODID:-//CDL BH - Câmara de Dirigentes Lojistas de Belo Horizonte
 //NONSGML Events //EN
CALSCALE:GREGORIAN
X-WR-CALNAME:CDL BH - Câmara de Dirigentes Lojistas de Belo Horizonte
BEGIN:VEVENT
CREATED:20200703T213441Z
UID:22690
DTEND;VALUE=DATE:20200708T030000Z
DTSTART;VALUE=DATE:20200708T030000Z
DTSTAMP:20260425T150000Z
LOCATION:
DESCRIPTION:Após 3 edições de sucesso do evento presencial, o Congresso Infovar
SUMMARY:Participe gratuitamente para o Congresso Infovarejo CDL/BH ON-LINE!
ORGANIZER:CDL BH - Câmara de Dirigentes Lojistas de Belo Horizonte
URL;VALUE=URI:https://homolog.cdlbh.com.br/evento/congresso-infovarejo-cdl-bh-online/
TRANSP:OPAQUE
BEGIN:VALARM
ACTION:DISPLAY
TRIGGER;VALUE=DATE-TIME:20260425T092818Z
DESCRIPTION:Reminder for Participe gratuitamente para o Congresso Infovarejo CDL/BH ON-LINE!
END:VALARM
END:VEVENT
END:VCALENDAR
