BEGIN:VCALENDAR
VERSION:2.0
PRODID:-//CDL BH - Câmara de Dirigentes Lojistas de Belo Horizonte
 //NONSGML Events //EN
CALSCALE:GREGORIAN
X-WR-CALNAME:CDL BH - Câmara de Dirigentes Lojistas de Belo Horizonte
BEGIN:VEVENT
CREATED:20200719T154935Z
UID:19874
DTEND;VALUE=DATE:20200721T030000Z
DTSTART;VALUE=DATE:20200721T030000Z
DTSTAMP:20260425T133000Z
LOCATION:
DESCRIPTION:Você sabe o que é <strong>Marketing de Conteúdo</strong> ou tem e
SUMMARY:Descubra quais são as formas mais simples fazer Marketing de Conteúdo
ORGANIZER:CDL BH - Câmara de Dirigentes Lojistas de Belo Horizonte
URL;VALUE=URI:https://homolog.cdlbh.com.br/evento/descubra-quais-sao-as-formas-mais-simples-fazer-marketing-de-conteudo/
TRANSP:OPAQUE
BEGIN:VALARM
ACTION:DISPLAY
TRIGGER;VALUE=DATE-TIME:20260425T092818Z
DESCRIPTION:Reminder for Descubra quais são as formas mais simples fazer Marketing de Conteúdo
END:VALARM
END:VEVENT
END:VCALENDAR
