BEGIN:VCALENDAR
VERSION:2.0
PRODID:-//CDL BH - Câmara de Dirigentes Lojistas de Belo Horizonte
 //NONSGML Events //EN
CALSCALE:GREGORIAN
X-WR-CALNAME:CDL BH - Câmara de Dirigentes Lojistas de Belo Horizonte
BEGIN:VEVENT
CREATED:20200708T181151Z
UID:19476
DTEND;VALUE=DATE:20200709T030000Z
DTSTART;VALUE=DATE:20200709T030000Z
DTSTAMP:20260426T000000Z
LOCATION:
DESCRIPTION:<strong>Linha de Crédito emergencial para associados da Entidade</str
SUMMARY:Participe da live da CDL/BH e BDMG sobre o programa Pronampe
ORGANIZER:CDL BH - Câmara de Dirigentes Lojistas de Belo Horizonte
URL;VALUE=URI:https://homolog.cdlbh.com.br/evento/live-parceria-com-o-bdmg-pronampe/
TRANSP:OPAQUE
BEGIN:VALARM
ACTION:DISPLAY
TRIGGER;VALUE=DATE-TIME:20260425T092753Z
DESCRIPTION:Reminder for Participe da live da CDL/BH e BDMG sobre o programa Pronampe
END:VALARM
END:VEVENT
END:VCALENDAR
