BEGIN:VCALENDAR
VERSION:2.0
PRODID:-//CDL BH - Câmara de Dirigentes Lojistas de Belo Horizonte
 //NONSGML Events //EN
CALSCALE:GREGORIAN
X-WR-CALNAME:CDL BH - Câmara de Dirigentes Lojistas de Belo Horizonte
BEGIN:VEVENT
CREATED:20200719T154811Z
UID:19321
DTEND;VALUE=DATE:20200721T030000Z
DTSTART;VALUE=DATE:20200721T030000Z
DTSTAMP:20260425T160000Z
LOCATION:
DESCRIPTION:Tire suas dúvidas com os profissionais da área de economia e mercado
SUMMARY:Consultoria de Economia  &#8211\; Solução exclusiva para os associados da CDL/BH
ORGANIZER:CDL BH - Câmara de Dirigentes Lojistas de Belo Horizonte
URL;VALUE=URI:https://homolog.cdlbh.com.br/evento/consultoria-economia-e-mercado/
TRANSP:OPAQUE
BEGIN:VALARM
ACTION:DISPLAY
TRIGGER;VALUE=DATE-TIME:20260425T092752Z
DESCRIPTION:Reminder for Consultoria de Economia  &#8211\; Solução exclusiva para os associados da CDL/BH
END:VALARM
END:VEVENT
END:VCALENDAR
