BEGIN:VCALENDAR
VERSION:2.0
PRODID:-//CDL BH - Câmara de Dirigentes Lojistas de Belo Horizonte
 //NONSGML Events //EN
CALSCALE:GREGORIAN
X-WR-CALNAME:CDL BH - Câmara de Dirigentes Lojistas de Belo Horizonte
BEGIN:VEVENT
CREATED:20200705T221215Z
UID:19314
DTEND;VALUE=DATE:20200707T030000Z
DTSTART;VALUE=DATE:20200707T030000Z
DTSTAMP:20260426T000000Z
LOCATION:
DESCRIPTION:<strong>Efeitos da decretação de calamidade pública (COVID-19) nos 
SUMMARY:Decretação de calamidade pública (Covid-19) nos contratos de trabalho
ORGANIZER:CDL BH - Câmara de Dirigentes Lojistas de Belo Horizonte
URL;VALUE=URI:https://homolog.cdlbh.com.br/evento/efeitos-da-decretacao-de-calamidade-publica-covid-19-nos-contratos-de-trabalho/
TRANSP:OPAQUE
BEGIN:VALARM
ACTION:DISPLAY
TRIGGER;VALUE=DATE-TIME:20260425T104501Z
DESCRIPTION:Reminder for Decretação de calamidade pública (Covid-19) nos contratos de trabalho
END:VALARM
END:VEVENT
END:VCALENDAR
