BEGIN:VCALENDAR
VERSION:2.0
PRODID:-//CDL BH - Câmara de Dirigentes Lojistas de Belo Horizonte
 //NONSGML Events //EN
CALSCALE:GREGORIAN
X-WR-CALNAME:CDL BH - Câmara de Dirigentes Lojistas de Belo Horizonte
BEGIN:VEVENT
CREATED:20120423T030000Z
UID:18454
DTEND;VALUE=DATE:20120513T030000Z
DTSTART;VALUE=DATE:20120513T030000Z
DTSTAMP:20260425T134507Z
LOCATION:
DESCRIPTION:<p>&#13; <strong>Minha m&atilde;e &eacute; meu presente</strong><br />
SUMMARY:Dia das Mães
ORGANIZER:CDL BH - Câmara de Dirigentes Lojistas de Belo Horizonte
URL;VALUE=URI:https://homolog.cdlbh.com.br/evento/dia-das-maes/
TRANSP:OPAQUE
BEGIN:VALARM
ACTION:DISPLAY
TRIGGER;VALUE=DATE-TIME:20260425T104507Z
DESCRIPTION:Reminder for Dia das Mães
END:VALARM
END:VEVENT
END:VCALENDAR
