BEGIN:VCALENDAR
VERSION:2.0
PRODID:-//CDL BH - Câmara de Dirigentes Lojistas de Belo Horizonte
 //NONSGML Events //EN
CALSCALE:GREGORIAN
X-WR-CALNAME:CDL BH - Câmara de Dirigentes Lojistas de Belo Horizonte
BEGIN:VEVENT
CREATED:20120424T030000Z
UID:18451
DTEND;VALUE=DATE:20120628T030000Z
DTSTART;VALUE=DATE:20120628T030000Z
DTSTAMP:20260425T134507Z
LOCATION:
DESCRIPTION:<p>&#13; No dia 28 de junho &eacute; o anivers&aacute;rio de 52 anos d
SUMMARY:Aniversário da CDL/BH
ORGANIZER:CDL BH - Câmara de Dirigentes Lojistas de Belo Horizonte
URL;VALUE=URI:https://homolog.cdlbh.com.br/evento/aniversario-da-cdl-bh/
TRANSP:OPAQUE
BEGIN:VALARM
ACTION:DISPLAY
TRIGGER;VALUE=DATE-TIME:20260425T104507Z
DESCRIPTION:Reminder for Aniversário da CDL/BH
END:VALARM
END:VEVENT
END:VCALENDAR
