BEGIN:VCALENDAR
VERSION:2.0
PRODID:-//CDL BH - Câmara de Dirigentes Lojistas de Belo Horizonte
 //NONSGML Events //EN
CALSCALE:GREGORIAN
X-WR-CALNAME:CDL BH - Câmara de Dirigentes Lojistas de Belo Horizonte
BEGIN:VEVENT
CREATED:20120829T030000Z
UID:18441
DTEND;VALUE=DATE:20121001T030000Z
DTSTART;VALUE=DATE:20121001T030000Z
DTSTAMP:20260425T134452Z
LOCATION:
DESCRIPTION:<p>&#13; A Confedera&ccedil;&atilde;o Nacional das C&acirc;maras de Di
SUMMARY:II Seminário Nacional de Comércio Eletrônico
ORGANIZER:CDL BH - Câmara de Dirigentes Lojistas de Belo Horizonte
URL;VALUE=URI:https://homolog.cdlbh.com.br/evento/ii-seminario-nacional-de-comercio-eletronico/
TRANSP:OPAQUE
BEGIN:VALARM
ACTION:DISPLAY
TRIGGER;VALUE=DATE-TIME:20260425T104452Z
DESCRIPTION:Reminder for II Seminário Nacional de Comércio Eletrônico
END:VALARM
END:VEVENT
END:VCALENDAR
