BEGIN:VCALENDAR
VERSION:2.0
PRODID:-//CDL BH - Câmara de Dirigentes Lojistas de Belo Horizonte
 //NONSGML Events //EN
CALSCALE:GREGORIAN
X-WR-CALNAME:CDL BH - Câmara de Dirigentes Lojistas de Belo Horizonte
BEGIN:VEVENT
CREATED:20130118T020000Z
UID:18418
DTEND;VALUE=DATE:20130123T020000Z
DTSTART;VALUE=DATE:20130123T020000Z
DTSTAMP:20260425T134509Z
LOCATION:
DESCRIPTION:<p>&#13; &nbsp;</p>&#13; <table border="0" cellpadding="0" cellspacing
SUMMARY:Super Show Room &#8211\; Móveis e Eletros!
ORGANIZER:CDL BH - Câmara de Dirigentes Lojistas de Belo Horizonte
URL;VALUE=URI:https://homolog.cdlbh.com.br/evento/super-show-room-moveis-e-eletros/
TRANSP:OPAQUE
BEGIN:VALARM
ACTION:DISPLAY
TRIGGER;VALUE=DATE-TIME:20260425T104509Z
DESCRIPTION:Reminder for Super Show Room &#8211\; Móveis e Eletros!
END:VALARM
END:VEVENT
END:VCALENDAR
