BEGIN:VCALENDAR
VERSION:2.0
PRODID:-//CDL BH - Câmara de Dirigentes Lojistas de Belo Horizonte
 //NONSGML Events //EN
CALSCALE:GREGORIAN
X-WR-CALNAME:CDL BH - Câmara de Dirigentes Lojistas de Belo Horizonte
BEGIN:VEVENT
CREATED:20130219T030000Z
UID:18414
DTEND;VALUE=DATE:20130225T030000Z
DTSTART;VALUE=DATE:20130225T030000Z
DTSTAMP:20260425T134456Z
LOCATION:
DESCRIPTION:<p>&#13; O presidente, Bruno Falci, e o coordenador, Fausto Isac, conv
SUMMARY:Reunião Conselho do Barro Preto
ORGANIZER:CDL BH - Câmara de Dirigentes Lojistas de Belo Horizonte
URL;VALUE=URI:https://homolog.cdlbh.com.br/evento/reuniao-conselho-do-barro-preto/
TRANSP:OPAQUE
BEGIN:VALARM
ACTION:DISPLAY
TRIGGER;VALUE=DATE-TIME:20260425T104456Z
DESCRIPTION:Reminder for Reunião Conselho do Barro Preto
END:VALARM
END:VEVENT
END:VCALENDAR
