BEGIN:VCALENDAR
VERSION:2.0
PRODID:-//CDL BH - Câmara de Dirigentes Lojistas de Belo Horizonte
 //NONSGML Events //EN
CALSCALE:GREGORIAN
X-WR-CALNAME:CDL BH - Câmara de Dirigentes Lojistas de Belo Horizonte
BEGIN:VEVENT
CREATED:20130227T195722Z
UID:18412
DTEND;VALUE=DATE:20130306T030000Z
DTSTART;VALUE=DATE:20130306T030000Z
DTSTAMP:20260425T134455Z
LOCATION:
DESCRIPTION:<p>&#13; O presidente da CDL/BH, Bruno Falci e o coordenador, Pedro Tr
SUMMARY:Reunião
ORGANIZER:CDL BH - Câmara de Dirigentes Lojistas de Belo Horizonte
URL;VALUE=URI:https://homolog.cdlbh.com.br/evento/reuniao/
TRANSP:OPAQUE
BEGIN:VALARM
ACTION:DISPLAY
TRIGGER;VALUE=DATE-TIME:20260425T104455Z
DESCRIPTION:Reminder for Reunião
END:VALARM
END:VEVENT
END:VCALENDAR
