BEGIN:VCALENDAR
VERSION:2.0
PRODID:-//CDL BH - Câmara de Dirigentes Lojistas de Belo Horizonte
 //NONSGML Events //EN
CALSCALE:GREGORIAN
X-WR-CALNAME:CDL BH - Câmara de Dirigentes Lojistas de Belo Horizonte
BEGIN:VEVENT
CREATED:20130327T030000Z
UID:18410
DTEND;VALUE=DATE:20130329T030000Z
DTSTART;VALUE=DATE:20130329T030000Z
DTSTAMP:20260425T134454Z
LOCATION:
DESCRIPTION:<p style="text-align: justify;">&#13; Como o dia 29 de mar&ccedil;o, s
SUMMARY:Paixão de Cristo
ORGANIZER:CDL BH - Câmara de Dirigentes Lojistas de Belo Horizonte
URL;VALUE=URI:https://homolog.cdlbh.com.br/evento/paixao-de-cristo/
TRANSP:OPAQUE
BEGIN:VALARM
ACTION:DISPLAY
TRIGGER;VALUE=DATE-TIME:20260425T104454Z
DESCRIPTION:Reminder for Paixão de Cristo
END:VALARM
END:VEVENT
END:VCALENDAR
