BEGIN:VCALENDAR
VERSION:2.0
PRODID:-//CDL BH - Câmara de Dirigentes Lojistas de Belo Horizonte
 //NONSGML Events //EN
CALSCALE:GREGORIAN
X-WR-CALNAME:CDL BH - Câmara de Dirigentes Lojistas de Belo Horizonte
BEGIN:VEVENT
CREATED:20130419T030000Z
UID:18408
DTEND;VALUE=DATE:20130630T030000Z
DTSTART;VALUE=DATE:20130630T030000Z
DTSTAMP:20260425T134457Z
LOCATION:
DESCRIPTION:<p>&#13; <strong style="color: rgb(64, 64, 65); font-family: Arial, He
SUMMARY:Corrida Na Ativa
ORGANIZER:CDL BH - Câmara de Dirigentes Lojistas de Belo Horizonte
URL;VALUE=URI:https://homolog.cdlbh.com.br/evento/corrida-na-ativa/
TRANSP:OPAQUE
BEGIN:VALARM
ACTION:DISPLAY
TRIGGER;VALUE=DATE-TIME:20260425T104457Z
DESCRIPTION:Reminder for Corrida Na Ativa
END:VALARM
END:VEVENT
END:VCALENDAR
