BEGIN:VCALENDAR
VERSION:2.0
PRODID:-//CDL BH - Câmara de Dirigentes Lojistas de Belo Horizonte
 //NONSGML Events //EN
CALSCALE:GREGORIAN
X-WR-CALNAME:CDL BH - Câmara de Dirigentes Lojistas de Belo Horizonte
BEGIN:VEVENT
CREATED:20130423T191206Z
UID:18406
DTEND;VALUE=DATE:20130501T030000Z
DTSTART;VALUE=DATE:20130501T030000Z
DTSTAMP:20260425T134457Z
LOCATION:
DESCRIPTION:<p>&#13; &nbsp;</p>&#13; <div style="text-align: center;">&#13; <u><st
SUMMARY:Comemoração do Dia do Trabalho
ORGANIZER:CDL BH - Câmara de Dirigentes Lojistas de Belo Horizonte
URL;VALUE=URI:https://homolog.cdlbh.com.br/evento/comemoracao-do-dia-do-trabalho/
TRANSP:OPAQUE
BEGIN:VALARM
ACTION:DISPLAY
TRIGGER;VALUE=DATE-TIME:20260425T104457Z
DESCRIPTION:Reminder for Comemoração do Dia do Trabalho
END:VALARM
END:VEVENT
END:VCALENDAR
