BEGIN:VCALENDAR
VERSION:2.0
PRODID:-//CDL BH - Câmara de Dirigentes Lojistas de Belo Horizonte
 //NONSGML Events //EN
CALSCALE:GREGORIAN
X-WR-CALNAME:CDL BH - Câmara de Dirigentes Lojistas de Belo Horizonte
BEGIN:VEVENT
CREATED:20130513T173303Z
UID:18402
DTEND;VALUE=DATE:20130517T030000Z
DTSTART;VALUE=DATE:20130517T030000Z
DTSTAMP:20260425T134504Z
LOCATION:
DESCRIPTION:<p>&#13; &nbsp;</p>&#13; <p>&#13; O presidente, Bruno Falci, e o coord
SUMMARY:Reunião do Conselho Regional CDL/BH Barro Preto
ORGANIZER:CDL BH - Câmara de Dirigentes Lojistas de Belo Horizonte
URL;VALUE=URI:https://homolog.cdlbh.com.br/evento/reuniao-do-conselho-regional-cdl-bh-barro-preto/
TRANSP:OPAQUE
BEGIN:VALARM
ACTION:DISPLAY
TRIGGER;VALUE=DATE-TIME:20260425T104504Z
DESCRIPTION:Reminder for Reunião do Conselho Regional CDL/BH Barro Preto
END:VALARM
END:VEVENT
END:VCALENDAR
