BEGIN:VCALENDAR
VERSION:2.0
PRODID:-//CDL BH - Câmara de Dirigentes Lojistas de Belo Horizonte
 //NONSGML Events //EN
CALSCALE:GREGORIAN
X-WR-CALNAME:CDL BH - Câmara de Dirigentes Lojistas de Belo Horizonte
BEGIN:VEVENT
CREATED:20130610T174445Z
UID:18398
DTEND;VALUE=DATE:20130614T030000Z
DTSTART;VALUE=DATE:20130614T030000Z
DTSTAMP:20260425T134531Z
LOCATION:
DESCRIPTION:<div>&#13; O presidente da CDL/BH, Bruno Falci, e o coordenador do Con
SUMMARY:Reunião Conselho Savassi
ORGANIZER:CDL BH - Câmara de Dirigentes Lojistas de Belo Horizonte
URL;VALUE=URI:https://homolog.cdlbh.com.br/evento/reuniao-conselho-savassi/
TRANSP:OPAQUE
BEGIN:VALARM
ACTION:DISPLAY
TRIGGER;VALUE=DATE-TIME:20260425T104531Z
DESCRIPTION:Reminder for Reunião Conselho Savassi
END:VALARM
END:VEVENT
END:VCALENDAR
