BEGIN:VCALENDAR
VERSION:2.0
PRODID:-//CDL BH - Câmara de Dirigentes Lojistas de Belo Horizonte
 //NONSGML Events //EN
CALSCALE:GREGORIAN
X-WR-CALNAME:CDL BH - Câmara de Dirigentes Lojistas de Belo Horizonte
BEGIN:VEVENT
CREATED:20130708T030000Z
UID:18396
DTEND;VALUE=DATE:20130716T030000Z
DTSTART;VALUE=DATE:20130716T030000Z
DTSTAMP:20260425T134530Z
LOCATION:
DESCRIPTION:<p>&#13; Os desafios enfrentados no dia a dia e a determina&ccedil;&at
SUMMARY:Dia do Comerciante!
ORGANIZER:CDL BH - Câmara de Dirigentes Lojistas de Belo Horizonte
URL;VALUE=URI:https://homolog.cdlbh.com.br/evento/dia-do-comerciante/
TRANSP:OPAQUE
BEGIN:VALARM
ACTION:DISPLAY
TRIGGER;VALUE=DATE-TIME:20260425T104530Z
DESCRIPTION:Reminder for Dia do Comerciante!
END:VALARM
END:VEVENT
END:VCALENDAR
