BEGIN:VCALENDAR
VERSION:2.0
PRODID:-//CDL BH - Câmara de Dirigentes Lojistas de Belo Horizonte
 //NONSGML Events //EN
CALSCALE:GREGORIAN
X-WR-CALNAME:CDL BH - Câmara de Dirigentes Lojistas de Belo Horizonte
BEGIN:VEVENT
CREATED:20130718T030000Z
UID:18394
DTEND;VALUE=DATE:20130723T030000Z
DTSTART;VALUE=DATE:20130723T030000Z
DTSTAMP:20260425T134531Z
LOCATION:
DESCRIPTION:<p style="text-align: justify;">&#13; &Eacute; bacharel em Administra&
SUMMARY:Palestra Gratuita!
ORGANIZER:CDL BH - Câmara de Dirigentes Lojistas de Belo Horizonte
URL;VALUE=URI:https://homolog.cdlbh.com.br/evento/palestra-gratuita-2/
TRANSP:OPAQUE
BEGIN:VALARM
ACTION:DISPLAY
TRIGGER;VALUE=DATE-TIME:20260425T104531Z
DESCRIPTION:Reminder for Palestra Gratuita!
END:VALARM
END:VEVENT
END:VCALENDAR
