BEGIN:VCALENDAR
VERSION:2.0
PRODID:-//CDL BH - Câmara de Dirigentes Lojistas de Belo Horizonte
 //NONSGML Events //EN
CALSCALE:GREGORIAN
X-WR-CALNAME:CDL BH - Câmara de Dirigentes Lojistas de Belo Horizonte
BEGIN:VEVENT
CREATED:20130801T030000Z
UID:18390
DTEND;VALUE=DATE:20130811T030000Z
DTSTART;VALUE=DATE:20130811T030000Z
DTSTAMP:20260425T134503Z
LOCATION:
DESCRIPTION:<p>&#13; <strong>Pai, nosso maior her&oacute;i!</strong></p>&#13; <p>&
SUMMARY:Dia dos Pais 2013!
ORGANIZER:CDL BH - Câmara de Dirigentes Lojistas de Belo Horizonte
URL;VALUE=URI:https://homolog.cdlbh.com.br/evento/dia-dos-pais-2013/
TRANSP:OPAQUE
BEGIN:VALARM
ACTION:DISPLAY
TRIGGER;VALUE=DATE-TIME:20260425T104503Z
DESCRIPTION:Reminder for Dia dos Pais 2013!
END:VALARM
END:VEVENT
END:VCALENDAR
