BEGIN:VCALENDAR
VERSION:2.0
PRODID:-//CDL BH - Câmara de Dirigentes Lojistas de Belo Horizonte
 //NONSGML Events //EN
CALSCALE:GREGORIAN
X-WR-CALNAME:CDL BH - Câmara de Dirigentes Lojistas de Belo Horizonte
BEGIN:VEVENT
CREATED:20130806T190546Z
UID:18388
DTEND;VALUE=DATE:20130810T030000Z
DTSTART;VALUE=DATE:20130810T030000Z
DTSTAMP:20260425T134531Z
LOCATION:
DESCRIPTION:<p>&#13; &nbsp;</p>&#13; <p style="text-align: justify;">&#13; No dia 
SUMMARY:2ª Marcha Contra o Crack
ORGANIZER:CDL BH - Câmara de Dirigentes Lojistas de Belo Horizonte
URL;VALUE=URI:https://homolog.cdlbh.com.br/evento/2a-marcha-contra-o-crack/
TRANSP:OPAQUE
BEGIN:VALARM
ACTION:DISPLAY
TRIGGER;VALUE=DATE-TIME:20260425T104531Z
DESCRIPTION:Reminder for 2ª Marcha Contra o Crack
END:VALARM
END:VEVENT
END:VCALENDAR
