BEGIN:VCALENDAR
VERSION:2.0
PRODID:-//CDL BH - Câmara de Dirigentes Lojistas de Belo Horizonte
 //NONSGML Events //EN
CALSCALE:GREGORIAN
X-WR-CALNAME:CDL BH - Câmara de Dirigentes Lojistas de Belo Horizonte
BEGIN:VEVENT
CREATED:20130812T030000Z
UID:18386
DTEND;VALUE=DATE:20130820T030000Z
DTSTART;VALUE=DATE:20130820T030000Z
DTSTAMP:20260425T134530Z
LOCATION:
DESCRIPTION:<p>&#13; &nbsp;</p>&#13; <p align="center">&#13; <strong>III Semin&aac
SUMMARY:Ecom 2013
ORGANIZER:CDL BH - Câmara de Dirigentes Lojistas de Belo Horizonte
URL;VALUE=URI:https://homolog.cdlbh.com.br/evento/ecom-2013/
TRANSP:OPAQUE
BEGIN:VALARM
ACTION:DISPLAY
TRIGGER;VALUE=DATE-TIME:20260425T104530Z
DESCRIPTION:Reminder for Ecom 2013
END:VALARM
END:VEVENT
END:VCALENDAR
