BEGIN:VCALENDAR
VERSION:2.0
PRODID:-//CDL BH - Câmara de Dirigentes Lojistas de Belo Horizonte
 //NONSGML Events //EN
CALSCALE:GREGORIAN
X-WR-CALNAME:CDL BH - Câmara de Dirigentes Lojistas de Belo Horizonte
BEGIN:VEVENT
CREATED:20130820T194204Z
UID:18384
DTEND;VALUE=DATE:20130828T030000Z
DTSTART;VALUE=DATE:20130828T030000Z
DTSTAMP:20260425T134500Z
LOCATION:
DESCRIPTION:<p>&#13; No pr&oacute;ximo dia 28 de agosto, Junior Portare ensinar&aa
SUMMARY:Como mudar a sua vida em 28 dias
ORGANIZER:CDL BH - Câmara de Dirigentes Lojistas de Belo Horizonte
URL;VALUE=URI:https://homolog.cdlbh.com.br/evento/como-mudar-a-sua-vida-em-28-dias/
TRANSP:OPAQUE
BEGIN:VALARM
ACTION:DISPLAY
TRIGGER;VALUE=DATE-TIME:20260425T104500Z
DESCRIPTION:Reminder for Como mudar a sua vida em 28 dias
END:VALARM
END:VEVENT
END:VCALENDAR
