BEGIN:VCALENDAR
VERSION:2.0
PRODID:-//CDL BH - Câmara de Dirigentes Lojistas de Belo Horizonte
 //NONSGML Events //EN
CALSCALE:GREGORIAN
X-WR-CALNAME:CDL BH - Câmara de Dirigentes Lojistas de Belo Horizonte
BEGIN:VEVENT
CREATED:20130902T200214Z
UID:18380
DTEND;VALUE=DATE:20130907T030000Z
DTSTART;VALUE=DATE:20130907T030000Z
DTSTAMP:20260425T134505Z
LOCATION:
DESCRIPTION:<p>&#13; &nbsp;</p>&#13; <p style="text-align: justify;">&#13; <strong
SUMMARY:7 de Setembro
ORGANIZER:CDL BH - Câmara de Dirigentes Lojistas de Belo Horizonte
URL;VALUE=URI:https://homolog.cdlbh.com.br/evento/7-de-setembro/
TRANSP:OPAQUE
BEGIN:VALARM
ACTION:DISPLAY
TRIGGER;VALUE=DATE-TIME:20260425T104505Z
DESCRIPTION:Reminder for 7 de Setembro
END:VALARM
END:VEVENT
END:VCALENDAR
