BEGIN:VCALENDAR
VERSION:2.0
PRODID:-//CDL BH - Câmara de Dirigentes Lojistas de Belo Horizonte
 //NONSGML Events //EN
CALSCALE:GREGORIAN
X-WR-CALNAME:CDL BH - Câmara de Dirigentes Lojistas de Belo Horizonte
BEGIN:VEVENT
CREATED:20130909T195748Z
UID:18378
DTEND;VALUE=DATE:20130926T030000Z
DTSTART;VALUE=DATE:20130926T030000Z
DTSTAMP:20260425T134503Z
LOCATION:
DESCRIPTION:<p>&#13; &nbsp;</p>&#13; <p style="text-align: justify;">&#13; Na quin
SUMMARY:1° Seminário Mineiro de Direito Urbanístico e da Construção
ORGANIZER:CDL BH - Câmara de Dirigentes Lojistas de Belo Horizonte
URL;VALUE=URI:https://homolog.cdlbh.com.br/evento/1-seminario-mineiro-de-direito-urbanistico-e-da-construcao/
TRANSP:OPAQUE
BEGIN:VALARM
ACTION:DISPLAY
TRIGGER;VALUE=DATE-TIME:20260425T104503Z
DESCRIPTION:Reminder for 1° Seminário Mineiro de Direito Urbanístico e da Construção
END:VALARM
END:VEVENT
END:VCALENDAR
