BEGIN:VCALENDAR
VERSION:2.0
PRODID:-//CDL BH - Câmara de Dirigentes Lojistas de Belo Horizonte
 //NONSGML Events //EN
CALSCALE:GREGORIAN
X-WR-CALNAME:CDL BH - Câmara de Dirigentes Lojistas de Belo Horizonte
BEGIN:VEVENT
CREATED:20130926T030000Z
UID:18376
DTEND;VALUE=DATE:20131002T015900Z
DTSTART;VALUE=DATE:20131002T015900Z
DTSTAMP:20260425T134459Z
LOCATION:
DESCRIPTION:<p>&#13; <strong>01 de Outubro - Dia do Vendedor.</strong></p>&#13; <p
SUMMARY:Dia do Vendedor!
ORGANIZER:CDL BH - Câmara de Dirigentes Lojistas de Belo Horizonte
URL;VALUE=URI:https://homolog.cdlbh.com.br/evento/dia-do-vendedor/
TRANSP:OPAQUE
BEGIN:VALARM
ACTION:DISPLAY
TRIGGER;VALUE=DATE-TIME:20260425T104459Z
DESCRIPTION:Reminder for Dia do Vendedor!
END:VALARM
END:VEVENT
END:VCALENDAR
