BEGIN:VCALENDAR
VERSION:2.0
PRODID:-//CDL BH - Câmara de Dirigentes Lojistas de Belo Horizonte
 //NONSGML Events //EN
CALSCALE:GREGORIAN
X-WR-CALNAME:CDL BH - Câmara de Dirigentes Lojistas de Belo Horizonte
BEGIN:VEVENT
CREATED:20131014T030000Z
UID:18372
DTEND;VALUE=DATE:20131029T030000Z
DTSTART;VALUE=DATE:20131029T030000Z
DTSTAMP:20260425T134414Z
LOCATION:
DESCRIPTION:<p align="center">&#13; &nbsp;</p>&#13; <p>&#13; <strong>Thiago Concer
SUMMARY:Vendas 360 graus: como vender mais!
ORGANIZER:CDL BH - Câmara de Dirigentes Lojistas de Belo Horizonte
URL;VALUE=URI:https://homolog.cdlbh.com.br/evento/vendas-360-graus-como-vender-mais/
TRANSP:OPAQUE
BEGIN:VALARM
ACTION:DISPLAY
TRIGGER;VALUE=DATE-TIME:20260425T104414Z
DESCRIPTION:Reminder for Vendas 360 graus: como vender mais!
END:VALARM
END:VEVENT
END:VCALENDAR
