BEGIN:VCALENDAR
VERSION:2.0
PRODID:-//CDL BH - Câmara de Dirigentes Lojistas de Belo Horizonte
 //NONSGML Events //EN
CALSCALE:GREGORIAN
X-WR-CALNAME:CDL BH - Câmara de Dirigentes Lojistas de Belo Horizonte
BEGIN:VEVENT
CREATED:20131017T030000Z
UID:18370
DTEND;VALUE=DATE:20131022T020000Z
DTSTART;VALUE=DATE:20131022T020000Z
DTSTAMP:20260425T134509Z
LOCATION:
DESCRIPTION:<p style="text-align: justify;">&#13; <strong>Renato Meirelles</strong
SUMMARY:Palestra Gratuita!
ORGANIZER:CDL BH - Câmara de Dirigentes Lojistas de Belo Horizonte
URL;VALUE=URI:https://homolog.cdlbh.com.br/evento/palestra-gratuita/
TRANSP:OPAQUE
BEGIN:VALARM
ACTION:DISPLAY
TRIGGER;VALUE=DATE-TIME:20260425T104509Z
DESCRIPTION:Reminder for Palestra Gratuita!
END:VALARM
END:VEVENT
END:VCALENDAR
