BEGIN:VCALENDAR
VERSION:2.0
PRODID:-//CDL BH - Câmara de Dirigentes Lojistas de Belo Horizonte
 //NONSGML Events //EN
CALSCALE:GREGORIAN
X-WR-CALNAME:CDL BH - Câmara de Dirigentes Lojistas de Belo Horizonte
BEGIN:VEVENT
CREATED:20131105T124838Z
UID:18366
DTEND;VALUE=DATE:20131113T152500Z
DTSTART;VALUE=DATE:20131113T152500Z
DTSTAMP:20260425T151834Z
LOCATION:
DESCRIPTION:<p>&#13; Gest&atilde;o de Transportes, Estacionamentos e Log&iacute;st
SUMMARY:II Workshop de Mobilidade Urbana Integrada
ORGANIZER:CDL BH - Câmara de Dirigentes Lojistas de Belo Horizonte
URL;VALUE=URI:https://homolog.cdlbh.com.br/evento/ii-workshop-de-mobilidade-urbana-integrada/
TRANSP:OPAQUE
BEGIN:VALARM
ACTION:DISPLAY
TRIGGER;VALUE=DATE-TIME:20260425T121834Z
DESCRIPTION:Reminder for II Workshop de Mobilidade Urbana Integrada
END:VALARM
END:VEVENT
END:VCALENDAR
