BEGIN:VCALENDAR
VERSION:2.0
PRODID:-//CDL BH - Câmara de Dirigentes Lojistas de Belo Horizonte
 //NONSGML Events //EN
CALSCALE:GREGORIAN
X-WR-CALNAME:CDL BH - Câmara de Dirigentes Lojistas de Belo Horizonte
BEGIN:VEVENT
CREATED:20131118T020000Z
UID:18364
DTEND;VALUE=DATE:20131118T213000Z
DTSTART;VALUE=DATE:20131118T213000Z
DTSTAMP:20260425T150448Z
LOCATION:
DESCRIPTION:<p>&#13; Walter Longo, um dos consultores do programa O Aprendiz, esta
SUMMARY:Walter Longo\, de O Aprendiz\, fala sobre o varejo do futuro
ORGANIZER:CDL BH - Câmara de Dirigentes Lojistas de Belo Horizonte
URL;VALUE=URI:https://homolog.cdlbh.com.br/evento/walter-longo-de-o-aprendiz-fala-sobre-o-varejo-do-futuro/
TRANSP:OPAQUE
BEGIN:VALARM
ACTION:DISPLAY
TRIGGER;VALUE=DATE-TIME:20260425T120448Z
DESCRIPTION:Reminder for Walter Longo\, de O Aprendiz\, fala sobre o varejo do futuro
END:VALARM
END:VEVENT
END:VCALENDAR
