BEGIN:VCALENDAR
VERSION:2.0
PRODID:-//CDL BH - Câmara de Dirigentes Lojistas de Belo Horizonte
 //NONSGML Events //EN
CALSCALE:GREGORIAN
X-WR-CALNAME:CDL BH - Câmara de Dirigentes Lojistas de Belo Horizonte
BEGIN:VEVENT
CREATED:20140120T020000Z
UID:18362
DTEND;VALUE=DATE:20140205T030000Z
DTSTART;VALUE=DATE:20140205T030000Z
DTSTAMP:20260425T151342Z
LOCATION:
DESCRIPTION:<p>&#13; A CDL/BH e o portal Varejo apresentam:<strong> P&oacute;s NRF
SUMMARY:Palestra Pós NRF 2014
ORGANIZER:CDL BH - Câmara de Dirigentes Lojistas de Belo Horizonte
URL;VALUE=URI:https://homolog.cdlbh.com.br/evento/palestra-pos-nrf-2014/
TRANSP:OPAQUE
BEGIN:VALARM
ACTION:DISPLAY
TRIGGER;VALUE=DATE-TIME:20260425T121342Z
DESCRIPTION:Reminder for Palestra Pós NRF 2014
END:VALARM
END:VEVENT
END:VCALENDAR
