BEGIN:VCALENDAR
VERSION:2.0
PRODID:-//CDL BH - Câmara de Dirigentes Lojistas de Belo Horizonte
 //NONSGML Events //EN
CALSCALE:GREGORIAN
X-WR-CALNAME:CDL BH - Câmara de Dirigentes Lojistas de Belo Horizonte
BEGIN:VEVENT
CREATED:20140210T020000Z
UID:18359
DTEND;VALUE=DATE:20140228T040000Z
DTSTART;VALUE=DATE:20140228T040000Z
DTSTAMP:20260425T150526Z
LOCATION:
DESCRIPTION:<p>&#13; &nbsp;Clique no link abaixo para baixar a cartilha sobre comp
SUMMARY:Saiba como vender para o Governo de Minas
ORGANIZER:CDL BH - Câmara de Dirigentes Lojistas de Belo Horizonte
URL;VALUE=URI:https://homolog.cdlbh.com.br/evento/saiba-como-vender-para-o-governo-de-minas-2/
TRANSP:OPAQUE
BEGIN:VALARM
ACTION:DISPLAY
TRIGGER;VALUE=DATE-TIME:20260425T120526Z
DESCRIPTION:Reminder for Saiba como vender para o Governo de Minas
END:VALARM
END:VEVENT
END:VCALENDAR
