BEGIN:VCALENDAR
VERSION:2.0
PRODID:-//CDL BH - Câmara de Dirigentes Lojistas de Belo Horizonte
 //NONSGML Events //EN
CALSCALE:GREGORIAN
X-WR-CALNAME:CDL BH - Câmara de Dirigentes Lojistas de Belo Horizonte
BEGIN:VEVENT
CREATED:20140331T030000Z
UID:18353
DTEND;VALUE=DATE:20140404T020000Z
DTSTART;VALUE=DATE:20140404T020000Z
DTSTAMP:20260425T151416Z
LOCATION:
DESCRIPTION:<p>&#13; &nbsp;</p>&#13; <div>&#13; De 01 a 05 de abril no Minascentro
SUMMARY:Feira do Empreendedor 2014
ORGANIZER:CDL BH - Câmara de Dirigentes Lojistas de Belo Horizonte
URL;VALUE=URI:https://homolog.cdlbh.com.br/evento/feira-do-empreendedor-2014/
TRANSP:OPAQUE
BEGIN:VALARM
ACTION:DISPLAY
TRIGGER;VALUE=DATE-TIME:20260425T121416Z
DESCRIPTION:Reminder for Feira do Empreendedor 2014
END:VALARM
END:VEVENT
END:VCALENDAR
