BEGIN:VCALENDAR
VERSION:2.0
PRODID:-//CDL BH - Câmara de Dirigentes Lojistas de Belo Horizonte
 //NONSGML Events //EN
CALSCALE:GREGORIAN
X-WR-CALNAME:CDL BH - Câmara de Dirigentes Lojistas de Belo Horizonte
BEGIN:VEVENT
CREATED:20140515T030000Z
UID:18349
DTEND;VALUE=DATE:20140521T040000Z
DTSTART;VALUE=DATE:20140521T040000Z
DTSTAMP:20260425T150457Z
LOCATION:
DESCRIPTION:<p>&#13; A HSM, em parceira com os centros universit&aacute;rios Una e
SUMMARY:Como criar\, conquistar e dominar mercados
ORGANIZER:CDL BH - Câmara de Dirigentes Lojistas de Belo Horizonte
URL;VALUE=URI:https://homolog.cdlbh.com.br/evento/como-criar-conquistar-e-dominar-mercados/
TRANSP:OPAQUE
BEGIN:VALARM
ACTION:DISPLAY
TRIGGER;VALUE=DATE-TIME:20260425T120457Z
DESCRIPTION:Reminder for Como criar\, conquistar e dominar mercados
END:VALARM
END:VEVENT
END:VCALENDAR
