BEGIN:VCALENDAR
VERSION:2.0
PRODID:-//CDL BH - Câmara de Dirigentes Lojistas de Belo Horizonte
 //NONSGML Events //EN
CALSCALE:GREGORIAN
X-WR-CALNAME:CDL BH - Câmara de Dirigentes Lojistas de Belo Horizonte
BEGIN:VEVENT
CREATED:20140805T030000Z
UID:18345
DTEND;VALUE=DATE:20140816T020000Z
DTSTART;VALUE=DATE:20140816T020000Z
DTSTAMP:20260425T150447Z
LOCATION:
DESCRIPTION:<div>&#13; Este &eacute; um feriado &nbsp;religioso, criado pela lei m
SUMMARY:Funcionamento do comércio no feriado de 15 de agosto
ORGANIZER:CDL BH - Câmara de Dirigentes Lojistas de Belo Horizonte
URL;VALUE=URI:https://homolog.cdlbh.com.br/evento/funcionamento-do-comercio-no-feriado-de-15-de-agosto/
TRANSP:OPAQUE
BEGIN:VALARM
ACTION:DISPLAY
TRIGGER;VALUE=DATE-TIME:20260425T120447Z
DESCRIPTION:Reminder for Funcionamento do comércio no feriado de 15 de agosto
END:VALARM
END:VEVENT
END:VCALENDAR
