BEGIN:VCALENDAR
VERSION:2.0
PRODID:-//CDL BH - Câmara de Dirigentes Lojistas de Belo Horizonte
 //NONSGML Events //EN
CALSCALE:GREGORIAN
X-WR-CALNAME:CDL BH - Câmara de Dirigentes Lojistas de Belo Horizonte
BEGIN:VEVENT
CREATED:20140907T030000Z
UID:18343
DTEND;VALUE=DATE:20140908T025500Z
DTSTART;VALUE=DATE:20140908T025500Z
DTSTAMP:20260425T151417Z
LOCATION:
DESCRIPTION:<div>&#13; A C&acirc;mara de Dirigentes Lojistas de Belo Horizonte (CD
SUMMARY:Funcionamento do comércio  no feriado
ORGANIZER:CDL BH - Câmara de Dirigentes Lojistas de Belo Horizonte
URL;VALUE=URI:https://homolog.cdlbh.com.br/evento/funcionamento-do-comercio-no-feriado/
TRANSP:OPAQUE
BEGIN:VALARM
ACTION:DISPLAY
TRIGGER;VALUE=DATE-TIME:20260425T121417Z
DESCRIPTION:Reminder for Funcionamento do comércio  no feriado
END:VALARM
END:VEVENT
END:VCALENDAR
