BEGIN:VCALENDAR
VERSION:2.0
PRODID:-//CDL BH - Câmara de Dirigentes Lojistas de Belo Horizonte
 //NONSGML Events //EN
CALSCALE:GREGORIAN
X-WR-CALNAME:CDL BH - Câmara de Dirigentes Lojistas de Belo Horizonte
BEGIN:VEVENT
CREATED:20140909T030000Z
UID:18341
DTEND;VALUE=DATE:20140925T003500Z
DTSTART;VALUE=DATE:20140925T003500Z
DTSTAMP:20260425T152346Z
LOCATION:
DESCRIPTION:<p>&#13; Na pr&oacute;xima palestra do Programa de Capacita&ccedil;&at
SUMMARY:Palestra gratuita: Atitudes Proativas
ORGANIZER:CDL BH - Câmara de Dirigentes Lojistas de Belo Horizonte
URL;VALUE=URI:https://homolog.cdlbh.com.br/evento/palestra-gratuita-atitudes-proativas/
TRANSP:OPAQUE
BEGIN:VALARM
ACTION:DISPLAY
TRIGGER;VALUE=DATE-TIME:20260425T122346Z
DESCRIPTION:Reminder for Palestra gratuita: Atitudes Proativas
END:VALARM
END:VEVENT
END:VCALENDAR
