BEGIN:VCALENDAR
VERSION:2.0
PRODID:-//CDL BH - Câmara de Dirigentes Lojistas de Belo Horizonte
 //NONSGML Events //EN
CALSCALE:GREGORIAN
X-WR-CALNAME:CDL BH - Câmara de Dirigentes Lojistas de Belo Horizonte
BEGIN:VEVENT
CREATED:20150319T134455Z
UID:18325
DTEND;VALUE=DATE:20150328T000000Z
DTSTART;VALUE=DATE:20150328T000000Z
DTSTAMP:20260425T150459Z
LOCATION:
DESCRIPTION:<div>&#13; Venha participar de um evento que re&uacute;ne refer&ecirc;
SUMMARY:Jornada Minas Criativa
ORGANIZER:CDL BH - Câmara de Dirigentes Lojistas de Belo Horizonte
URL;VALUE=URI:https://homolog.cdlbh.com.br/evento/jornada-minas-criativa/
TRANSP:OPAQUE
BEGIN:VALARM
ACTION:DISPLAY
TRIGGER;VALUE=DATE-TIME:20260425T120459Z
DESCRIPTION:Reminder for Jornada Minas Criativa
END:VALARM
END:VEVENT
END:VCALENDAR
