BEGIN:VCALENDAR
VERSION:2.0
PRODID:-//CDL BH - Câmara de Dirigentes Lojistas de Belo Horizonte
 //NONSGML Events //EN
CALSCALE:GREGORIAN
X-WR-CALNAME:CDL BH - Câmara de Dirigentes Lojistas de Belo Horizonte
BEGIN:VEVENT
CREATED:20150319T142546Z
UID:18324
DTEND;VALUE=DATE:20150325T000000Z
DTSTART;VALUE=DATE:20150325T000000Z
DTSTAMP:20260425T150447Z
LOCATION:
DESCRIPTION:<p>&#13; Nesta ter&ccedil;a-feira, 24 de mar&ccedil;o, a CDL/BH traz o
SUMMARY:Proteção ao ponto comercial em shopping center
ORGANIZER:CDL BH - Câmara de Dirigentes Lojistas de Belo Horizonte
URL;VALUE=URI:https://homolog.cdlbh.com.br/evento/protecao-ao-ponto-comercial-em-shopping-center/
TRANSP:OPAQUE
BEGIN:VALARM
ACTION:DISPLAY
TRIGGER;VALUE=DATE-TIME:20260425T120447Z
DESCRIPTION:Reminder for Proteção ao ponto comercial em shopping center
END:VALARM
END:VEVENT
END:VCALENDAR
