BEGIN:VCALENDAR
VERSION:2.0
PRODID:-//CDL BH - Câmara de Dirigentes Lojistas de Belo Horizonte
 //NONSGML Events //EN
CALSCALE:GREGORIAN
X-WR-CALNAME:CDL BH - Câmara de Dirigentes Lojistas de Belo Horizonte
BEGIN:VEVENT
CREATED:20150424T030000Z
UID:18322
DTEND;VALUE=DATE:20150501T040000Z
DTSTART;VALUE=DATE:20150501T040000Z
DTSTAMP:20260425T150459Z
LOCATION:
DESCRIPTION:<div style="color: rgb(64, 64, 65); font-family: Arial, Helvetica, san
SUMMARY:Funcionamento do comércio no feriado do dia do trabalhador
ORGANIZER:CDL BH - Câmara de Dirigentes Lojistas de Belo Horizonte
URL;VALUE=URI:https://homolog.cdlbh.com.br/evento/funcionamento-do-comercio-no-feriado-do-dia-do-trabalhador/
TRANSP:OPAQUE
BEGIN:VALARM
ACTION:DISPLAY
TRIGGER;VALUE=DATE-TIME:20260425T120459Z
DESCRIPTION:Reminder for Funcionamento do comércio no feriado do dia do trabalhador
END:VALARM
END:VEVENT
END:VCALENDAR
