BEGIN:VCALENDAR
VERSION:2.0
PRODID:-//CDL BH - Câmara de Dirigentes Lojistas de Belo Horizonte
 //NONSGML Events //EN
CALSCALE:GREGORIAN
X-WR-CALNAME:CDL BH - Câmara de Dirigentes Lojistas de Belo Horizonte
BEGIN:VEVENT
CREATED:20160120T020000Z
UID:18302
DTEND;VALUE=DATE:20161231T220000Z
DTSTART;VALUE=DATE:20161231T220000Z
DTSTAMP:20260425T122821Z
LOCATION:
DESCRIPTION:<p>&#13; Confira em que dias da semana cair&atilde;o os feriados deste
SUMMARY:Calendário de Feriados de 2016
ORGANIZER:CDL BH - Câmara de Dirigentes Lojistas de Belo Horizonte
URL;VALUE=URI:https://homolog.cdlbh.com.br/evento/calendario-de-feriados-de-2016/
TRANSP:OPAQUE
BEGIN:VALARM
ACTION:DISPLAY
TRIGGER;VALUE=DATE-TIME:20260425T092821Z
DESCRIPTION:Reminder for Calendário de Feriados de 2016
END:VALARM
END:VEVENT
END:VCALENDAR
