BEGIN:VCALENDAR
VERSION:2.0
PRODID:-//CDL BH - Câmara de Dirigentes Lojistas de Belo Horizonte
 //NONSGML Events //EN
CALSCALE:GREGORIAN
X-WR-CALNAME:CDL BH - Câmara de Dirigentes Lojistas de Belo Horizonte
BEGIN:VEVENT
CREATED:20160323T030000Z
UID:18292
DTEND;VALUE=DATE:20160329T113000Z
DTSTART;VALUE=DATE:20160329T113000Z
DTSTAMP:20260425T134508Z
LOCATION:
DESCRIPTION:<!-- wp:blockgallery/carousel --><div class="wp-block-blockgallery-car
SUMMARY:Pós Big Show 2016
ORGANIZER:CDL BH - Câmara de Dirigentes Lojistas de Belo Horizonte
URL;VALUE=URI:https://homolog.cdlbh.com.br/evento/pos-big-show-2016/
TRANSP:OPAQUE
BEGIN:VALARM
ACTION:DISPLAY
TRIGGER;VALUE=DATE-TIME:20260425T104508Z
DESCRIPTION:Reminder for Pós Big Show 2016
END:VALARM
END:VEVENT
END:VCALENDAR
