BEGIN:VCALENDAR
VERSION:2.0
PRODID:-//CDL BH - Câmara de Dirigentes Lojistas de Belo Horizonte
 //NONSGML Events //EN
CALSCALE:GREGORIAN
X-WR-CALNAME:CDL BH - Câmara de Dirigentes Lojistas de Belo Horizonte
BEGIN:VEVENT
CREATED:20160714T030000Z
UID:18282
DTEND;VALUE=DATE:20160714T040000Z
DTSTART;VALUE=DATE:20160714T040000Z
DTSTAMP:20260425T134531Z
LOCATION:
DESCRIPTION:<p style="text-align: justify;">&#13; O Day1x, idealizado pela Endeavo
SUMMARY:Day1x &#8211\; Edição Belo Horizonte
ORGANIZER:CDL BH - Câmara de Dirigentes Lojistas de Belo Horizonte
URL;VALUE=URI:https://homolog.cdlbh.com.br/evento/day1x-edicao-belo-horizonte/
TRANSP:OPAQUE
BEGIN:VALARM
ACTION:DISPLAY
TRIGGER;VALUE=DATE-TIME:20260425T104531Z
DESCRIPTION:Reminder for Day1x &#8211\; Edição Belo Horizonte
END:VALARM
END:VEVENT
END:VCALENDAR
