BEGIN:VCALENDAR
VERSION:2.0
PRODID:-//CDL BH - Câmara de Dirigentes Lojistas de Belo Horizonte
 //NONSGML Events //EN
CALSCALE:GREGORIAN
X-WR-CALNAME:CDL BH - Câmara de Dirigentes Lojistas de Belo Horizonte
BEGIN:VEVENT
CREATED:20161004T030000Z
UID:18274
DTEND;VALUE=DATE:20161006T210000Z
DTSTART;VALUE=DATE:20161006T210000Z
DTSTAMP:20260425T134503Z
LOCATION:
DESCRIPTION:<div>&#13; O Sebrae-MG preparou uma programa&ccedil;&atilde;o especial
SUMMARY:Semana da Micro e Pequena Empresa
ORGANIZER:CDL BH - Câmara de Dirigentes Lojistas de Belo Horizonte
URL;VALUE=URI:https://homolog.cdlbh.com.br/evento/semana-da-micro-e-pequena-empresa/
TRANSP:OPAQUE
BEGIN:VALARM
ACTION:DISPLAY
TRIGGER;VALUE=DATE-TIME:20260425T104503Z
DESCRIPTION:Reminder for Semana da Micro e Pequena Empresa
END:VALARM
END:VEVENT
END:VCALENDAR
