BEGIN:VCALENDAR
VERSION:2.0
PRODID:-//CDL BH - Câmara de Dirigentes Lojistas de Belo Horizonte
 //NONSGML Events //EN
CALSCALE:GREGORIAN
X-WR-CALNAME:CDL BH - Câmara de Dirigentes Lojistas de Belo Horizonte
BEGIN:VEVENT
CREATED:20161031T174048Z
UID:18268
DTEND;VALUE=DATE:20161102T030000Z
DTSTART;VALUE=DATE:20161102T030000Z
DTSTAMP:20260425T134459Z
LOCATION:
DESCRIPTION:<div style="color: rgb(64, 64, 65); font-family: Arial, Helvetica, san
SUMMARY:Comércio poderá abrir no próximo feriado
ORGANIZER:CDL BH - Câmara de Dirigentes Lojistas de Belo Horizonte
URL;VALUE=URI:https://homolog.cdlbh.com.br/evento/comercio-podera-abrir-no-proximo-feriado/
TRANSP:OPAQUE
BEGIN:VALARM
ACTION:DISPLAY
TRIGGER;VALUE=DATE-TIME:20260425T104459Z
DESCRIPTION:Reminder for Comércio poderá abrir no próximo feriado
END:VALARM
END:VEVENT
END:VCALENDAR
