BEGIN:VCALENDAR
VERSION:2.0
PRODID:-//CDL BH - Câmara de Dirigentes Lojistas de Belo Horizonte
 //NONSGML Events //EN
CALSCALE:GREGORIAN
X-WR-CALNAME:CDL BH - Câmara de Dirigentes Lojistas de Belo Horizonte
BEGIN:VEVENT
CREATED:20161128T020000Z
UID:18260
DTEND;VALUE=DATE:20260425T104503Z
DTSTART;VALUE=DATE:20260425T104503Z
DTSTAMP:20260425T134503Z
LOCATION:
DESCRIPTION:<div>Este é um feriado religioso municipal, regulado pela Lei Municip
SUMMARY:Comércio aberto no próximo feriado
ORGANIZER:CDL BH - Câmara de Dirigentes Lojistas de Belo Horizonte
URL;VALUE=URI:https://homolog.cdlbh.com.br/evento/comercio-aberto-no-proximo-feriado/
TRANSP:OPAQUE
BEGIN:VALARM
ACTION:DISPLAY
TRIGGER;VALUE=DATE-TIME:20260425T104503Z
DESCRIPTION:Reminder for Comércio aberto no próximo feriado
END:VALARM
END:VEVENT
END:VCALENDAR
