BEGIN:VCALENDAR
VERSION:2.0
PRODID:-//CDL BH - Câmara de Dirigentes Lojistas de Belo Horizonte
 //NONSGML Events //EN
CALSCALE:GREGORIAN
X-WR-CALNAME:CDL BH - Câmara de Dirigentes Lojistas de Belo Horizonte
BEGIN:VEVENT
CREATED:20170208T020000Z
UID:18258
DTEND;VALUE=DATE:20260425T104458Z
DTSTART;VALUE=DATE:20260425T104458Z
DTSTAMP:20260425T134458Z
LOCATION:
DESCRIPTION:A CDL/BH, por meio do seu Conselho Regional Barro Preto, e a Ascobap p
SUMMARY:Café da manhã com lojistas do Barro Preto
ORGANIZER:CDL BH - Câmara de Dirigentes Lojistas de Belo Horizonte
URL;VALUE=URI:https://homolog.cdlbh.com.br/evento/cafe-da-manha-com-lojistas-do-barro-preto/
TRANSP:OPAQUE
BEGIN:VALARM
ACTION:DISPLAY
TRIGGER;VALUE=DATE-TIME:20260425T104458Z
DESCRIPTION:Reminder for Café da manhã com lojistas do Barro Preto
END:VALARM
END:VEVENT
END:VCALENDAR
