BEGIN:VCALENDAR
VERSION:2.0
PRODID:-//CDL BH - Câmara de Dirigentes Lojistas de Belo Horizonte
 //NONSGML Events //EN
CALSCALE:GREGORIAN
X-WR-CALNAME:CDL BH - Câmara de Dirigentes Lojistas de Belo Horizonte
BEGIN:VEVENT
CREATED:20170516T211114Z
UID:18252
DTEND;VALUE=DATE:20260425T104457Z
DTSTART;VALUE=DATE:20260425T104457Z
DTSTAMP:20260425T134457Z
LOCATION:
DESCRIPTION:<div><em>Evento, na próxima quinta, 18, às 9h30, no Centro de Conven
SUMMARY:BNDES promove palestra para MPE&#8217\;s em BH sobre suas linhas de crédito
ORGANIZER:CDL BH - Câmara de Dirigentes Lojistas de Belo Horizonte
URL;VALUE=URI:https://homolog.cdlbh.com.br/evento/bndes-promove-palestra-para-mpes-em-bh-sobre-suas-linhas-de-credito/
TRANSP:OPAQUE
BEGIN:VALARM
ACTION:DISPLAY
TRIGGER;VALUE=DATE-TIME:20260425T104457Z
DESCRIPTION:Reminder for BNDES promove palestra para MPE&#8217\;s em BH sobre suas linhas de crédito
END:VALARM
END:VEVENT
END:VCALENDAR
