BEGIN:VCALENDAR
VERSION:2.0
PRODID:-//CDL BH - Câmara de Dirigentes Lojistas de Belo Horizonte
 //NONSGML Events //EN
CALSCALE:GREGORIAN
X-WR-CALNAME:CDL BH - Câmara de Dirigentes Lojistas de Belo Horizonte
BEGIN:VEVENT
CREATED:20170816T173958Z
UID:18248
DTEND;VALUE=DATE:20260425T104507Z
DTSTART;VALUE=DATE:20260425T104507Z
DTSTAMP:20260425T134507Z
LOCATION:
DESCRIPTION:<p style="color: #404041; font-family: Arial, Helvetica, sans-serif; f
SUMMARY:Campanha Educativa &#8216\;Ande Seguro&#8217\;
ORGANIZER:CDL BH - Câmara de Dirigentes Lojistas de Belo Horizonte
URL;VALUE=URI:https://homolog.cdlbh.com.br/evento/campanha-educativa-ande-seguro/
TRANSP:OPAQUE
BEGIN:VALARM
ACTION:DISPLAY
TRIGGER;VALUE=DATE-TIME:20260425T104507Z
DESCRIPTION:Reminder for Campanha Educativa &#8216\;Ande Seguro&#8217\;
END:VALARM
END:VEVENT
END:VCALENDAR
