BEGIN:VCALENDAR
VERSION:2.0
PRODID:-//CDL BH - Câmara de Dirigentes Lojistas de Belo Horizonte
 //NONSGML Events //EN
CALSCALE:GREGORIAN
X-WR-CALNAME:CDL BH - Câmara de Dirigentes Lojistas de Belo Horizonte
BEGIN:VEVENT
CREATED:20170914T030000Z
UID:18246
DTEND;VALUE=DATE:20260425T104455Z
DTSTART;VALUE=DATE:20260425T104455Z
DTSTAMP:20260425T134455Z
LOCATION:
DESCRIPTION:Você certamente já viu algum caso sobre a invasão de computadores p
SUMMARY:Palestra sobre segurança da informação
ORGANIZER:CDL BH - Câmara de Dirigentes Lojistas de Belo Horizonte
URL;VALUE=URI:https://homolog.cdlbh.com.br/evento/palestra-sobre-seguranca-da-informacao/
TRANSP:OPAQUE
BEGIN:VALARM
ACTION:DISPLAY
TRIGGER;VALUE=DATE-TIME:20260425T104455Z
DESCRIPTION:Reminder for Palestra sobre segurança da informação
END:VALARM
END:VEVENT
END:VCALENDAR
